BEGIN:VCALENDAR
METHOD:PUBLISH
VERSION:2.0
CALSCALE:GREGORIAN
PRODID:-//NONSGML Sandhills Development\, LLC//NONSGML Sugar Calendar Fe
 eds v3.6.1//EN
X-WR-CALNAME:East Franklin Corridor Arts Festival
X-WR-CALDESC:All My Relations Arts
X-WR-TIMEZONE:America/Chicago
BEGIN:VTIMEZONE
TZID:America/Chicago
BEGIN:DAYLIGHT
TZOFFSETFROM:-0500
TZOFFSETTO:-0500
DTSTART:20250314T230000
TZNAME:CDT
END:DAYLIGHT
END:VTIMEZONE
BEGIN:VTIMEZONE
TZID:America/Chicago
BEGIN:DAYLIGHT
TZOFFSETFROM:-0500
TZOFFSETTO:-0500
DTSTART:20250314T230000
TZNAME:CDT
END:DAYLIGHT
END:VTIMEZONE
BEGIN:VEVENT
SUMMARY:East Franklin Corridor Arts Festival
DESCRIPTION:All My Relations Arts is excited to partner with our neighbo
 rs\, Bench Pressed\, for the first-ever East Franklin Corridor Arts Fest
 ival on Saturday\, September 13th.\n\n\n\n\nThe event will be a free\, f
 amily-friendly art street fair where local artists affiliated with local
  organizations can share their work and\, importantly\, offer hands-on a
 rt experiences to the broader community. The “open street” style fai
 r will allow residents to engage directly with different art mediums off
 ered among local Franklin vendors and businesses\, some of which our nei
 ghbors may not have encountered before.\n\nArtist and activist Courtney 
 Cochran will be engaging attendees with a free\, hands-on screen printin
 g activity focused on an original\, community-forward design. See you t
 here!\n\nEvent details:\n\n 	What: East Franklin Corridor Arts Festival 
 2025\n 	When: Saturday\, September 13\, 2025\, 11 am-3 pm\n 	Where: 26th
  Avenue South (between East Franklin Ave and Pautz Place)\, Minneapolis\
 n 	Cost: FREE for all ages!\n 	Food Vendors: Arepa Time\, Minneapolis A
 merican Indian Center – Gatherings Cafe\, Pizze Lucé\, and Sweet Lou
 s Meats\n\n\n\nLearn more: here
URL;VALUE=URI:https://allmyrelationsarts.org/exhibitions-events/events/e
 ast-franklin-corridor-arts-festival/
UID:urn:uuid:feb5eda9-f7ea-495b-b432-689f562a09ca
STATUS:CONFIRMED
ORGANIZER:
DTSTAMP:20260424T162129Z
DTSTART;TZID=America/Chicago:20250913T110000
DTEND;TZID=America/Chicago:20250913T150000
LOCATION:2010 26th Ave. S. #1
END:VEVENT
END:VCALENDAR