BEGIN:VCALENDAR
METHOD:PUBLISH
VERSION:2.0
CALSCALE:GREGORIAN
PRODID:-//NONSGML Sandhills Development\, LLC//NONSGML Sugar Calendar Fe
 eds v3.6.1//EN
X-WR-CALNAME:Land & Water: A Writing Workshop with Halee Kirkwood
X-WR-CALDESC:All My Relations Arts
X-WR-TIMEZONE:America/Chicago
BEGIN:VTIMEZONE
TZID:America/Chicago
BEGIN:DAYLIGHT
TZOFFSETFROM:-0600
TZOFFSETTO:-0500
DTSTART:20260308T080000
TZNAME:CDT
END:DAYLIGHT
END:VTIMEZONE
BEGIN:VTIMEZONE
TZID:America/Chicago
BEGIN:DAYLIGHT
TZOFFSETFROM:-0600
TZOFFSETTO:-0500
DTSTART:20260308T080000
TZNAME:CDT
END:DAYLIGHT
END:VTIMEZONE
BEGIN:VEVENT
SUMMARY:Land & Water: A Writing Workshop with Halee Kirkwood
DESCRIPTION:Join us for a two-part workshop in support of the Mary Ann K
 ey Book Club conversation with Robin Wall Kimmerer. The second workshop 
 in this series\, led by poet Halee Kirkwood\, focuses on water\, encoura
 ging participants to write about a waterway that nourishes them. Refresh
 ments begin at 5:30 p.m.\, followed by the workshop at 6 p.m. The worksh
 op is offered in a hybrid format\, both in person at All My Relations Ar
 ts Gallery or online via Facebook Live. Registration required.*\n\nSetti
 ng is often described as an element in a writer’s story\, a tool that 
 helps the reader visualize the place where their characters live. And ye
 t\, as humans\, we are profoundly shaped by the land we come from\, the 
 water we live near\, the plants and animals who share the earth with us\
 , and the horizon that greets us each day. Along with discussion of sele
 ct excerpts by various writers\, such as Robin Wall Kimmerer\, Linda Hog
 an\, and Kimberly Blaeser\, participants will explore their relationship
  to place through brief writing exercises\, and consider how they might 
 extend that visualization to their broader work.\n\nAdditional events in
  this series at All My Relations Arts Gallery include:\n\n 	Land &amp\; 
 Water: A Writing Workshop with Diane Wilson on Tuesday\, May 5\, 5:30-7
 :30 p.m.\n 	Mary Ann Key Book Club Watch Event and Discussion: A Virtual
  Conversation with Robin Wall Kimmerer on Wednesday\, May 13\, 6-7:45 p.
 m.\n 	Land &amp\; Water: A Writing Workshop with Halee Kirkwood on Wedne
 sday\, May 20\, 5:30-7:30 p.m.\n\nCollaborators: All My Relations Arts\;
  More Than a Single Story\; Hennepin County Library.\n\nThis program is 
 funded with money from Minnesota’s Arts and Cultural Heritage Fund. Sp
 onsor: Friends of the Hennepin County Library.\n\nHalee Kirkwood's debut
  poetry collection\, "To Think of a Match\," is forthcoming with Curbsto
 ne Press in spring 2027. Kirkwood is a 2023-2025 Jerome Hill Artist Fell
 ow\, an inaugural and returning Indigenous Nations Poets fellow\, and a 
 2019 Loft Mentor Series fellow. They are a direct descendant of the Fond
  du Lac Band of Lake Superior Ojibwe.\n\n\n*REGISTRATION REQUIRED\n\n\n\
 nRegister to attend in-person or virtually at More Than a Single Story's
  Eventbrite:\nhttps://www.eventbrite.com/e/land-water-a-writers-relation
 ship-with-place-tickets-1986009695461?aff=oddtdtcreator
URL;VALUE=URI:https://allmyrelationsarts.org/exhibitions-events/events/l
 and-water-a-writing-workshop-with-halee-kirkwood-2/
UID:urn:uuid:0e02e112-d473-4894-8cd2-c7962dd4d805
STATUS:CONFIRMED
ORGANIZER:
DTSTAMP:20260422T210206Z
DTSTART;TZID=America/Chicago:20260520T173000
DTEND;TZID=America/Chicago:20260520T193000
END:VEVENT
END:VCALENDAR