BEGIN:VCALENDAR
METHOD:PUBLISH
VERSION:2.0
CALSCALE:GREGORIAN
PRODID:-//NONSGML Sandhills Development\, LLC//NONSGML Sugar Calendar Fe
 eds v3.6.1//EN
X-WR-CALNAME:MVAT & AMRA: Holiday Bazaar
X-WR-CALDESC:All My Relations Arts
X-WR-TIMEZONE:America/Chicago
BEGIN:VTIMEZONE
TZID:America/Chicago
BEGIN:STANDARD
TZOFFSETFROM:-0500
TZOFFSETTO:-0600
DTSTART:20251102T070000
TZNAME:CST
END:STANDARD
END:VTIMEZONE
BEGIN:VTIMEZONE
TZID:America/Chicago
BEGIN:STANDARD
TZOFFSETFROM:-0500
TZOFFSETTO:-0600
DTSTART:20251102T070000
TZNAME:CST
END:STANDARD
END:VTIMEZONE
BEGIN:VEVENT
SUMMARY:MVAT & AMRA: Holiday Bazaar
DESCRIPTION:Join MVAT and AMRA Thursday\, December 18th and 19th as we t
 eam up for a two-day holiday bazaar. Featuring arts\, crafts\, jewelry\
 , homegoods\, apparel and more from 10+ local Native vendors. Grab your 
 last minute holiday gifts\, enjoy complimentary warm beverages from Pow 
 Wow Grounds Coffee and win raffle prizes happening throughout the day.\n
 \n \nFeatured Vendors: \n\n\nMashkiki Studios\n\nArien Monroe\n\nCryst
 al Oothoudt\n\nLaura Youngbird\n\nWakíŋyaŋ Beadwork\n\nLittle Earth B
 eading &amp\; Sewing\n\nArt by Camille\n\nJadé Velazquez\n\nMarie Diaz\
 n\nCourtney Cochran\n\nAnishinaabe Ink\n\nCrystal Batiste\n\nBeads Bling
  &amp\; Buckskin\n\nCiera’s Designs\n\nand more...\n\n\n \nAt All My 
 Relations Arts Gallery\n1414 E. Franklin Ave \nMinneapolis\n11am-4pm (b
 oth days) 
URL;VALUE=URI:https://allmyrelationsarts.org/exhibitions-events/events/m
 vat-amra-holiday-bazaar-2/
UID:urn:uuid:c314b614-2bee-4935-b802-f546fd962819
STATUS:CONFIRMED
ORGANIZER:
DTSTAMP:20260424T160058Z
DTSTART;TZID=America/Chicago:20251218T110000
DTEND;TZID=America/Chicago:20251218T160000
END:VEVENT
END:VCALENDAR