BEGIN:VCALENDAR
METHOD:PUBLISH
VERSION:2.0
CALSCALE:GREGORIAN
PRODID:-//NONSGML Sandhills Development\, LLC//NONSGML Sugar Calendar Fe
 eds v3.6.1//EN
X-WR-CALNAME:Native Authors Program Works-in-Progress Public Readings
X-WR-CALDESC:All My Relations Arts
X-WR-TIMEZONE:America/Chicago
BEGIN:VTIMEZONE
TZID:America/Chicago
BEGIN:STANDARD
TZOFFSETFROM:-0500
TZOFFSETTO:-0600
DTSTART:20251102T070000
TZNAME:CST
END:STANDARD
END:VTIMEZONE
BEGIN:VTIMEZONE
TZID:America/Chicago
BEGIN:STANDARD
TZOFFSETFROM:-0500
TZOFFSETTO:-0600
DTSTART:20251102T070000
TZNAME:CST
END:STANDARD
END:VTIMEZONE
BEGIN:VEVENT
SUMMARY:Native Authors Program Works-in-Progress Public Readings
DESCRIPTION:Join us for an inspiring evening as we proudly present the s
 econd works-in-progress public reading from our 2025 Native Authors Prog
 ram cohort. This talented group of emerging Native authors has spent mon
 ths immersed in a rigorous and enriching program\, diligently honing the
 ir craft under the guidance of mentor Art Coulson.\n\nThrough peer-to-pe
 er reviews\, lively discussions with esteemed guest speakers\, and in-de
 pth advice on navigating the complexities of the publishing world\, thes
 e authors have been meticulously developing original pieces of writing. 
 Each work is a unique reflection of their individual experiences\, rich 
 cultural heritage\, and diverse perspectives\, offering powerful and aut
 hentic narratives that resonate deeply.\n\nFeaturing Readings From:\n\n 
 	Therese Stanton\n 	Ajuawak Kapashesit\n 	Jenn Hall\n 	Samantha Manz\n 	
 Melanie Quetone Hensold\n\nThis is a rare opportunity to hear their powe
 rful voices and compelling stories firsthand. Come and meet the cohort\,
  engage with their creative journey\, and celebrate the vibrant tapestry
  of Native literature.\n\nEvent Details:\n\n 	Admission: Free and open t
 o all members of the community.\n 	Location: All My Relations Arts\, 141
 4 E. Franklin Ave.\n 	Time: 6-7:30 PM\n 	Refreshments: Snacks and bevera
 ges will be provided\n\nFor more information on the program and cohort\,
  click HERE
URL;VALUE=URI:https://allmyrelationsarts.org/exhibitions-events/events/n
 ative-authors-program-works-in-progress-public-readings/
UID:urn:uuid:c404b35b-654f-45b7-a886-5dc9866cf91d
STATUS:CONFIRMED
ORGANIZER:
DTSTAMP:20260424T155731Z
DTSTART;TZID=America/Chicago:20251121T180000
DTEND;TZID=America/Chicago:20251121T193000
END:VEVENT
END:VCALENDAR