BEGIN:VCALENDAR
METHOD:PUBLISH
VERSION:2.0
CALSCALE:GREGORIAN
PRODID:-//NONSGML Sandhills Development\, LLC//NONSGML Sugar Calendar Fe
 eds v3.6.1//EN
X-WR-CALNAME:Native Reel Takes: AMRA Native Short Film Festival 2025
X-WR-CALDESC:All My Relations Arts
X-WR-TIMEZONE:America/Chicago
BEGIN:VTIMEZONE
TZID:America/Chicago
BEGIN:DAYLIGHT
TZOFFSETFROM:-0500
TZOFFSETTO:-0500
DTSTART:20250412T063000
TZNAME:CDT
END:DAYLIGHT
END:VTIMEZONE
BEGIN:VTIMEZONE
TZID:America/Chicago
BEGIN:DAYLIGHT
TZOFFSETFROM:-0500
TZOFFSETTO:-0500
DTSTART:20250412T063000
TZNAME:CDT
END:DAYLIGHT
END:VTIMEZONE
BEGIN:VEVENT
SUMMARY:Native Reel Takes: AMRA Native Short Film Festival 2025
DESCRIPTION:Join us as we screen six films by five Native American local
  and national filmmakers. Jada Brown and Colin Monette kick off the eve
 ning with a live musical performance\, followed by the screenings of eme
 rging and established filmmakers. This event takes place outdoors in the
  parking lot of All My Relations Arts and street food from Frybread Fact
 ory will be available for festival goers. Limited chairs are available. 
 Guests are welcome to bring their own seating and warm attire. \n\nFeat
 ured films:\n\n 	“River Bank” directed by Charine Pilar Gonzales (Sa
 n Ildefonso Pueblo - Tewa) \n 	“When Thunderbird Dances” directed b
 y Khayman Goodsky (Bois Forte Band Of Chippewa)\n 	“Tiger” directed 
 by Loren Waters (Cherokee/Kiowa)\n 	“How the Bear Got a Short Tail” 
 directed by Elizabeth Day (Leech Lake Ojibwe) \n 	“The Comedian” di
 rected by Ajuawak Kapashesit (Waskaganish Cree\, White Earth Ojibwe Desc
 endant) \n 	“Language Keepers” directed by Ajuawak Kapashesit \n\n
 Saturday\, October 11th\, 6:30-9 pm. Music at 6:30\; screening at 7:15 p
 m. Screening run time is approximately 75 minutes. Learn more about the 
 filmmakers and films here. \n\n&nbsp\;
URL;VALUE=URI:https://allmyrelationsarts.org/exhibitions-events/events/n
 ative-reel-takes-amra-native-short-film-festival-2025/
UID:urn:uuid:68b04968-5bd5-4e31-b2db-92535b64c584
STATUS:CONFIRMED
ORGANIZER:
DTSTAMP:20260424T160925Z
DTSTART;TZID=America/Chicago:20251011T183000
DTEND;TZID=America/Chicago:20251011T210000
LOCATION:1414 E. Franklin Ave.
END:VEVENT
END:VCALENDAR