BEGIN:VCALENDAR
METHOD:PUBLISH
VERSION:2.0
CALSCALE:GREGORIAN
PRODID:-//NONSGML Sandhills Development\, LLC//NONSGML Sugar Calendar Fe
 eds v3.6.1//EN
X-WR-CALNAME:Okizi Artist Talk: Healing Through Art
X-WR-CALDESC:All My Relations Arts
X-WR-TIMEZONE:America/Chicago
BEGIN:VTIMEZONE
TZID:America/Chicago
BEGIN:STANDARD
TZOFFSETFROM:-0500
TZOFFSETTO:-0600
DTSTART:20231105T070000
TZNAME:CST
END:STANDARD
BEGIN:DAYLIGHT
TZOFFSETFROM:-0600
TZOFFSETTO:-0500
DTSTART:20240310T080000
TZNAME:CDT
END:DAYLIGHT
END:VTIMEZONE
BEGIN:VTIMEZONE
TZID:America/Chicago
BEGIN:STANDARD
TZOFFSETFROM:-0500
TZOFFSETTO:-0600
DTSTART:20231105T070000
TZNAME:CST
END:STANDARD
BEGIN:DAYLIGHT
TZOFFSETFROM:-0600
TZOFFSETTO:-0500
DTSTART:20240310T080000
TZNAME:CDT
END:DAYLIGHT
END:VTIMEZONE
BEGIN:VEVENT
SUMMARY:Okizi Artist Talk: Healing Through Art
DESCRIPTION:Join All My Relations Arts (AMRA) and featured artists from 
 Okizi (To Heal) for a roundtable conversation on the healing aspects of 
 blending culture through art. Hear from first-time AMRA exhibitors Kent 
 Estey\, Gidinatiy Hartman\, Josie Hoffman\, and Delia Touché on their w
 ork\, process and how healing impacts their art. Moderated by AMRA Galle
 ry and Programs Coordinator\, Juleana Enright. \n\nSaturday\, April 6th
 \, 1-3pm\nFood and beverage + exhibition viewing 1-2pm\, with an artist 
 talk at 2pm. \n\nThis event has limited attendance. Please RSVP to rese
 rve a spot. Register HERE.\n\nThis panel is part of programming for Okiz
 i (To Heal) and doubles as the closing reception. Okizi is on view at Al
 l My Relations Arts through Saturday\, April 13th.\n\n&nbsp\;\n\nAbout t
 he exhibition:\nOkizi (To Heal) is a partner exhibition with the America
 n Swedish Institute (ASI) in response to the traveling exhibition\, Arct
 ic Highways: Unbound Indigenous People. A common theme of these dual exh
 ibitions is the healing impacts of cultural revitalization. While effort
 s were made to separate Native peoples from their spirituality\, languag
 e\, and cultural knowledge and traditions\, Okizi highlights the revital
 ization efforts that reconnect this generation and future generations to
  our language\, land\, and culture as a means of healing from historical
  and generational trauma.\n\nTo learn more about the exhibit and showcas
 ing artists\, visit https://allmyrelationsarts.org/exhibitions-events/ex
 hibitions/okizi-to-heal/.
URL;VALUE=URI:https://allmyrelationsarts.org/exhibitions-events/events/o
 kizi-artist-talk-healing-through-art/
UID:urn:uuid:7a4b21f0-c57b-4951-afef-7cabddcbfc6f
STATUS:CONFIRMED
ORGANIZER:
DTSTAMP:20260424T160603Z
DTSTART;TZID=America/Chicago:20240406T130000
DTEND;TZID=America/Chicago:20240406T130000
END:VEVENT
END:VCALENDAR