BEGIN:VCALENDAR
METHOD:PUBLISH
VERSION:2.0
CALSCALE:GREGORIAN
PRODID:-//NONSGML Sandhills Development\, LLC//NONSGML Sugar Calendar Fe
 eds v3.6.1//EN
X-WR-CALNAME:Opening Reception: "Frank Buffalo Hyde: AL·TER·NA·TIVE"
X-WR-CALDESC:All My Relations Arts
X-WR-TIMEZONE:America/Chicago
BEGIN:VTIMEZONE
TZID:America/Chicago
BEGIN:DAYLIGHT
TZOFFSETFROM:-0600
TZOFFSETTO:-0500
DTSTART:20240310T080000
TZNAME:CDT
END:DAYLIGHT
END:VTIMEZONE
BEGIN:VTIMEZONE
TZID:America/Chicago
BEGIN:DAYLIGHT
TZOFFSETFROM:-0600
TZOFFSETTO:-0500
DTSTART:20240310T080000
TZNAME:CDT
END:DAYLIGHT
END:VTIMEZONE
BEGIN:VEVENT
SUMMARY:Opening Reception: "Frank Buffalo Hyde: AL·TER·NA·TIVE"
DESCRIPTION:Join All My Relations Arts and the Native American Community
  Development Institute Thursday\, May 9th\, 6-8 pm for an evening celebr
 ating the opening reception for AL·TER·NA·TIVE. \n\nThis solo exhibi
 tion features a collection of paintings and sculptures from artist Frank
  Buffalo Hyde (Onondaga/Niimíipuu (Nez Perce)). The night will feature 
 food and refreshments by Trickster Tacos and a DJ set by Wathéča Recor
 ds. All are welcome.\n\n&nbsp\;\n\nAbout AL·TER·NA·TIVE:\nVivid and p
 op-culture saturated\, Frank Buffalo Hyde's work reflects on the commodi
 fication of American Indian culture\, and the assertive roles for Native
  American identity in the contemporary world. Self-proclaimed as conscio
 usly\, culturally non-transactional\, Frank’s work comments on cultura
 l appropriation and societal disruption through his uncompromising satir
 ical eye. A defiant take on the skewed perceptions of Native American ar
 t and culture tourism\, Frank’s allegorical work is geared towards Nat
 ive people first and disarms through banter while making references to a
 ntiquated technology in conversation with the metaverse\; and provides a
  layered commentary on the collective unconscious of the 21st century.\n
 \nOn View: May 9th - July 13th\, 2024\nFor more gallery tours\, contact 
 arts@nacdi.org\n\n&nbsp\;\n\nAbout the Artist:\nFrank Buffalo Hyde (b. 1
 974\; Santa Fe\, NM) is an Onondaga/Niimíipuu (Nez Perce) artist whose 
 paintings examine and elevate an image of contemporary Indigenous life t
 hrough a vibrant pop-sensibility and uncompromising satirical eye. His w
 ork has been shown at museums including the Wheelright Museum of the Ame
 rican Indian\, Santa Fe\, NM\; the C.M Russell Museum\, Great Falls\, MT
 \; and Gilcrease Museum\, Tulsa\, OK. It is in the public collections of
  the Smithsonian National Museum of the American Indian\, Washington DC\
 ; Peabody Essex Museum\, Salem\, MA\; Everson Museum of Art\, Syracuse\,
  NY\; Iroquois Museum\, Cobleskill\, NY\; Longyear Museum at Colgate Uni
 versity\, Hamilton\, NY\; the Institute of American Indian Arts\, Santa 
 Fe\, NM\; the Wheelwright Museum of the American Indian. And The Hirshho
 rn Museum Hyde lives and works in Northfield\, MN.\nhttps://frankbuffalo
 hyde.com/home.html\n\n&nbsp\;\n\nImage credit: Frank Buffalo Hyde \, P
 uck Ficasso w/ Pistol\, 2021  Acrylic on canvas  48’’ x 48’’
URL;VALUE=URI:https://allmyrelationsarts.org/exhibitions-events/events/o
 pening-reception-frank-buffalo-hyde-al%c2%b7ter%c2%b7na%c2%b7tive/
UID:urn:uuid:e7b184d0-e121-4aa5-b927-9d2d7bfd3f95
STATUS:CONFIRMED
ORGANIZER:
DTSTAMP:20260424T160223Z
DTSTART;TZID=America/Chicago:20240509T180000
DTEND;TZID=America/Chicago:20240509T200000
END:VEVENT
END:VCALENDAR