BEGIN:VCALENDAR
METHOD:PUBLISH
VERSION:2.0
CALSCALE:GREGORIAN
PRODID:-//NONSGML Sandhills Development\, LLC//NONSGML Sugar Calendar Fe
 eds v3.6.1//EN
X-WR-CALNAME:Opening Reception: "Niimiwin: Bijiinag igo ingii-azhegiiwe 
 gaa-niimi’iding"
X-WR-CALDESC:All My Relations Arts
X-WR-TIMEZONE:America/Chicago
BEGIN:VTIMEZONE
TZID:America/Chicago
BEGIN:STANDARD
TZOFFSETFROM:-0500
TZOFFSETTO:-0600
DTSTART:20241103T070000
TZNAME:CST
END:STANDARD
END:VTIMEZONE
BEGIN:VTIMEZONE
TZID:America/Chicago
BEGIN:STANDARD
TZOFFSETFROM:-0500
TZOFFSETTO:-0600
DTSTART:20241103T070000
TZNAME:CST
END:STANDARD
END:VTIMEZONE
BEGIN:VEVENT
SUMMARY:Opening Reception: "Niimiwin: Bijiinag igo ingii-azhegiiwe gaa-n
 iimi’iding"
DESCRIPTION:Join us Thursday\, November 7th for the opening reception fo
 r "Niimiwin: Bijiinag igo ingii-azhegiiwe gaa-niimi’iding\," curated b
 y Emerging Curators Insitute fellow Josie Hoffman.\n\nFeaturing work fro
 m artists Adrienne M. Benjamin\, Courtney Cochran\, Chanelle Gallagher\,
  Michael Kurtz\, Courtney M. Leonard\, and the Stonebridge Singers.\n\nA
 ll My Relations Arts\n1414 E. Franklin Ave\nMinneapolis\, MN 55404\n6-8p
 m\; All are welcome to this free event.Food and beverages will be provid
 ed.\n\nAbout the exhibition:"Niimiwin" is a dynamic multimedia exhibitio
 n that explores the profound relationship between movement and identity 
 within contemporary Indigenous art. Inspired by the vibrant traditions o
 f dance and powwow\, this showcase features a diverse array of Minnesota
 -based Indigenous artists whose work delves into the theme of kinetic mo
 vement—both in its physical form and its metaphorical resonance. "Niim
 iwin\," which translates to “Everyone Dance” in Anishinaabemowin\, i
 s an exploration of how movement manifests within our bodies\, our conne
 ction to the land\, and our relationships within the community. The Anis
 hinaabemowin phrase\, Bijiinag igo ingii-azhegiiwe gaa-niimi’iding (I 
 recently returned home from a powwow)\, evokes the feeling of community 
 and connection shared from participating in the vibrancy and celebration
  of a powwow. This exhibition invites you to experience the dynamic inte
 rplay of material\, process\, and result as artists from various discipl
 ines—ranging from ceramics and photography to powwow singing and beyon
 d—embody the essence of kinetic energy in their creations.\n\nOn view:
  November 7th\, 2024 – January 18th\, 2025Opening reception: Thursday\
 , November 7th\, 6-8pmAdditional Programming: TBD\n\n\n\n[caption id="at
 tachment_2323" align="alignnone" width="2000"] Image credit: Left to rig
 ht: Anangookwe (Darcie Big Bear)\, Amikogaabawiikwe (Adrienne Benjamin)\
 , Bizhiwens (Taliya Benjamin)\, Niigaanigiizhigookwe (Kim Big Bear). Jin
 gle Dress maker: Amikogaabawiikwe (Adrienne Benjamin).[/caption]
URL;VALUE=URI:https://allmyrelationsarts.org/exhibitions-events/events/o
 pening-reception-niimiwin-bijiinag-igo-ingii-azhegiiwe-gaa-niimiiding/
UID:urn:uuid:c0f9442f-7d2c-46e6-973a-3588420871a1
STATUS:CONFIRMED
ORGANIZER:
DTSTAMP:20260424T161808Z
DTSTART;TZID=America/Chicago:20241107T180000
DTEND;TZID=America/Chicago:20241107T200000
END:VEVENT
END:VCALENDAR