BEGIN:VCALENDAR
METHOD:PUBLISH
VERSION:2.0
CALSCALE:GREGORIAN
PRODID:-//NONSGML Sandhills Development\, LLC//NONSGML Sugar Calendar Fe
 eds v3.6.1//EN
X-WR-CALNAME:River Stories and Water Songs with Karen Goulet
X-WR-CALDESC:All My Relations Arts
X-WR-TIMEZONE:America/Chicago
BEGIN:VTIMEZONE
TZID:America/Chicago
BEGIN:DAYLIGHT
TZOFFSETFROM:-0500
TZOFFSETTO:-0500
DTSTART:20230415T230000
TZNAME:CDT
END:DAYLIGHT
END:VTIMEZONE
BEGIN:VTIMEZONE
TZID:America/Chicago
BEGIN:DAYLIGHT
TZOFFSETFROM:-0500
TZOFFSETTO:-0500
DTSTART:20230415T230000
TZNAME:CDT
END:DAYLIGHT
END:VTIMEZONE
BEGIN:VEVENT
SUMMARY:River Stories and Water Songs with Karen Goulet
DESCRIPTION:Join artist Karen Goulet on Saturday\, Oct. 15th from 11am- 
 3pm at All My Relations Arts gallery to add to the community installatio
 n\, "River Stories and Water Songs." The artwork is part of the exhibiti
 on "Aabijijiwan / Ukeyat yanalleh\," translated into Ojibwe and Houma as
 \, “The Water Flows Continuously.” Participants are encouraged to br
 ing an old favorite garment that will be woven into the community instal
 lation. Recycled fabrics are also available for use.\n\nFree\; all are w
 elcome. Lunch and refreshments will be provided.\n\nTo register for eith
 er dates\, click HERE\n\n\n\nAbout the artist:\n\nKaren E. Goulet is a W
 hite Earth Ojibwe Band member and is also from Metis\, and Finnish peopl
 e. She is a practicing artist\, poet\, educator and community sculptor. 
 She is the Miikanan Gallery Program Director at Watermark Art Center in 
 Bemidji\, Minnesota. Her work centers around community\, environment\, a
 nd perpetuating culture. Her life path has always been a creative path a
 nd she has dedicated her professional and personal life to making\, shar
 ing\, and encouraging artistic practice.\n\n\n\n&nbsp\;
URL;VALUE=URI:https://allmyrelationsarts.org/exhibitions-events/events/r
 iver-stories-and-water-songs-with-karen-goulet-2/
UID:urn:uuid:f2a27031-f422-4874-942f-c825dcdeb9a4
STATUS:CONFIRMED
ORGANIZER:
DTSTAMP:20260422T235702Z
DTSTART;TZID=America/Chicago:20231015T110000
DTEND;TZID=America/Chicago:20231015T110000
END:VEVENT
END:VCALENDAR