BEGIN:VCALENDAR
METHOD:PUBLISH
VERSION:2.0
CALSCALE:GREGORIAN
PRODID:-//NONSGML Sandhills Development\, LLC//NONSGML Sugar Calendar Fe
 eds v3.6.1//EN
X-WR-CALNAME:River Stories and Water Songs with Karen Goulet
X-WR-CALDESC:All My Relations Arts
X-WR-TIMEZONE:America/Chicago
BEGIN:VTIMEZONE
TZID:America/Chicago
BEGIN:DAYLIGHT
TZOFFSETFROM:-0500
TZOFFSETTO:-0500
DTSTART:20230414T230000
TZNAME:CDT
END:DAYLIGHT
END:VTIMEZONE
BEGIN:VTIMEZONE
TZID:America/Chicago
BEGIN:DAYLIGHT
TZOFFSETFROM:-0500
TZOFFSETTO:-0500
DTSTART:20230414T230000
TZNAME:CDT
END:DAYLIGHT
END:VTIMEZONE
BEGIN:VEVENT
SUMMARY:River Stories and Water Songs with Karen Goulet
DESCRIPTION:Join artist Karen Goulet on Friday\, Oct. 14th and Saturday\
 , Oct. 15th from 11am- 3pm at All My Relations Arts gallery to add to th
 e community installation\, "River Stories and Water Songs." The artwork 
 is part of the exhibition "Aabijijiwan / Ukeyat yanalleh\," translated i
 nto Ojibwe and Houma as\, “The Water Flows Continuously." Participants
  are encouraged to bring an old favorite garment that will be woven into
  the community installation. Recycled fabrics are also available for use
 .\n\nFree\; all are welcome. Lunch and refreshments will be provided.\n\
 nTo register for either dates\, click HERE\n\n\n\nAbout the artist:\n\nK
 aren E. Goulet is a White Earth Ojibwe Band member and is also from Meti
 s\, and Finnish people. She is a practicing artist\, poet\, educator and
  community sculptor. She is the Miikanan Gallery Program Director at Wat
 ermark Art Center in Bemidji\, Minnesota. Her work centers around commun
 ity\, environment\, and perpetuating culture. Her life path has always b
 een a creative path and she has dedicated her professional and personal 
 life to making\, sharing\, and encouraging artistic practice.\n\n\n\n&nb
 sp\;
URL;VALUE=URI:https://allmyrelationsarts.org/exhibitions-events/events/r
 iver-stories-and-water-songs-with-karen-goulet/
UID:urn:uuid:aa69104c-2dd6-4170-b947-b7f61f545873
STATUS:CONFIRMED
ORGANIZER:
DTSTAMP:20260424T160858Z
DTSTART;TZID=America/Chicago:20231014T110000
DTEND;TZID=America/Chicago:20231014T150000
END:VEVENT
END:VCALENDAR