BEGIN:VCALENDAR
METHOD:PUBLISH
VERSION:2.0
CALSCALE:GREGORIAN
PRODID:-//NONSGML Sandhills Development\, LLC//NONSGML Sugar Calendar Fe
 eds v3.6.1//EN
X-WR-CALNAME:Summer Series: Native Authors Readings
X-WR-CALDESC:All My Relations Arts
X-WR-TIMEZONE:America/Chicago
BEGIN:VTIMEZONE
TZID:America/Chicago
BEGIN:DAYLIGHT
TZOFFSETFROM:-0600
TZOFFSETTO:-0500
DTSTART:20230312T080000
TZNAME:CDT
END:DAYLIGHT
END:VTIMEZONE
BEGIN:VTIMEZONE
TZID:America/Chicago
BEGIN:DAYLIGHT
TZOFFSETFROM:-0600
TZOFFSETTO:-0500
DTSTART:20230312T080000
TZNAME:CDT
END:DAYLIGHT
END:VTIMEZONE
BEGIN:VEVENT
SUMMARY:Summer Series: Native Authors Readings
DESCRIPTION:Join us as we welcome authors Chloé Allyn\, Nicholas DeShaw
 \, Deanna StandingCloud and Emmy Her Many Horses to share readings at Bi
 rchbark’s event space\, Birchbark Bizhew. Hear snippets from the cohor
 t’s new works and shop books and goods from Birchbark’s Native Arts.
URL;VALUE=URI:https://allmyrelationsarts.org/exhibitions-events/events/s
 ummer-series-native-authors-readings/
UID:urn:uuid:86177bab-5bca-46f4-a5b8-3851d98bac0b
STATUS:CONFIRMED
ORGANIZER:
DTSTAMP:20260422T061422Z
DTSTART;TZID=America/Chicago:20230623T173000
DTEND;TZID=America/Chicago:20230623T190000
LOCATION:Birchbark Bizhew 1629 Hennepin Avenue Suite #275 Minneapolis\, 
 MN 55403
END:VEVENT
END:VCALENDAR